BEGIN:VCALENDAR
VERSION:2.0
PRODID:-//Schützengilde Reutlingen 1290 e.V. - ECPv6.15.20//NONSGML v1.0//EN
CALSCALE:GREGORIAN
METHOD:PUBLISH
X-ORIGINAL-URL:https://sgi-reutlingen.de
X-WR-CALDESC:Veranstaltungen für Schützengilde Reutlingen 1290 e.V.
REFRESH-INTERVAL;VALUE=DURATION:PT1H
X-Robots-Tag:noindex
X-PUBLISHED-TTL:PT1H
BEGIN:VTIMEZONE
TZID:UTC
BEGIN:STANDARD
TZOFFSETFROM:+0000
TZOFFSETTO:+0000
TZNAME:UTC
DTSTART:20260101T000000
END:STANDARD
END:VTIMEZONE
BEGIN:VEVENT
DTSTART;VALUE=DATE:20270106
DTEND;VALUE=DATE:20270107
DTSTAMP:20260423T201610
CREATED:20260228T121820Z
LAST-MODIFIED:20260228T121820Z
UID:10406-1799193600-1799279999@sgi-reutlingen.de
SUMMARY:Neujahrsschiessen
DESCRIPTION:
URL:https://sgi-reutlingen.de/event/neujahrsschiessen-3
END:VEVENT
END:VCALENDAR