BEGIN:VCALENDAR
VERSION:2.0
PRODID:-//Schützengilde Reutlingen 1290 e.V. - ECPv6.15.20//NONSGML v1.0//EN
CALSCALE:GREGORIAN
METHOD:PUBLISH
X-ORIGINAL-URL:https://sgi-reutlingen.de
X-WR-CALDESC:Veranstaltungen für Schützengilde Reutlingen 1290 e.V.
REFRESH-INTERVAL;VALUE=DURATION:PT1H
X-Robots-Tag:noindex
X-PUBLISHED-TTL:PT1H
BEGIN:VTIMEZONE
TZID:UTC
BEGIN:STANDARD
TZOFFSETFROM:+0000
TZOFFSETTO:+0000
TZNAME:UTC
DTSTART:20250101T000000
END:STANDARD
END:VTIMEZONE
BEGIN:VEVENT
DTSTART;VALUE=DATE:20260501
DTEND;VALUE=DATE:20260502
DTSTAMP:20260422T083204
CREATED:20260228T121535Z
LAST-MODIFIED:20260228T121535Z
UID:10394-1777593600-1777679999@sgi-reutlingen.de
SUMMARY:Maiwanderung
DESCRIPTION:Start 10 Uhr Marktplatz
URL:https://sgi-reutlingen.de/event/maiwanderung-3
END:VEVENT
BEGIN:VEVENT
DTSTART;VALUE=DATE:20260509
DTEND;VALUE=DATE:20260510
DTSTAMP:20260422T083204
CREATED:20260311T084119Z
LAST-MODIFIED:20260311T084119Z
UID:10413-1778284800-1778371199@sgi-reutlingen.de
SUMMARY:Landesschützentag Heidenheim
DESCRIPTION:
URL:https://sgi-reutlingen.de/event/landesschuetzentag-heidenheim
END:VEVENT
END:VCALENDAR