BEGIN:VCALENDAR
VERSION:2.0
PRODID:-//Schützengilde Reutlingen 1290 e.V. - ECPv6.15.20//NONSGML v1.0//EN
CALSCALE:GREGORIAN
METHOD:PUBLISH
X-WR-CALNAME:Schützengilde Reutlingen 1290 e.V.
X-ORIGINAL-URL:https://sgi-reutlingen.de
X-WR-CALDESC:Veranstaltungen für Schützengilde Reutlingen 1290 e.V.
REFRESH-INTERVAL;VALUE=DURATION:PT1H
X-Robots-Tag:noindex
X-PUBLISHED-TTL:PT1H
BEGIN:VTIMEZONE
TZID:UTC
BEGIN:STANDARD
TZOFFSETFROM:+0000
TZOFFSETTO:+0000
TZNAME:UTC
DTSTART:20250101T000000
END:STANDARD
END:VTIMEZONE
BEGIN:VEVENT
DTSTART;VALUE=DATE:20260308
DTEND;VALUE=DATE:20260309
DTSTAMP:20260422T103305
CREATED:20260228T121311Z
LAST-MODIFIED:20260228T121311Z
UID:10388-1772928000-1773014399@sgi-reutlingen.de
SUMMARY:Schiedweckenschiessen
DESCRIPTION:
URL:https://sgi-reutlingen.de/event/schiedweckenschiessen-2
LOCATION:Schützenhaus\, Mark 2\, Reutlingen\, 72764\, Deutschland
END:VEVENT
BEGIN:VEVENT
DTSTART;TZID=UTC:20260327T190000
DTEND;TZID=UTC:20260327T210000
DTSTAMP:20260422T103305
CREATED:20260228T121408Z
LAST-MODIFIED:20260228T121408Z
UID:10390-1774638000-1774645200@sgi-reutlingen.de
SUMMARY:Jahreshauptversammlung
DESCRIPTION:
URL:https://sgi-reutlingen.de/event/jahreshauptversammlung-3
LOCATION:Schützenhaus\, Mark 2\, Reutlingen\, 72764\, Deutschland
CATEGORIES:Versammlung
END:VEVENT
BEGIN:VEVENT
DTSTART;TZID=UTC:20260328T160000
DTEND;TZID=UTC:20260328T170000
DTSTAMP:20260422T103305
CREATED:20260311T084007Z
LAST-MODIFIED:20260311T084007Z
UID:10409-1774713600-1774717200@sgi-reutlingen.de
SUMMARY:Kreisschützentag Pfullingen
DESCRIPTION:
URL:https://sgi-reutlingen.de/event/kreisschuetzentag-pfullingen
END:VEVENT
END:VCALENDAR