BEGIN:VCALENDAR
VERSION:2.0
PRODID:-//Schützengilde Reutlingen 1290 e.V. - ECPv6.15.20//NONSGML v1.0//EN
CALSCALE:GREGORIAN
METHOD:PUBLISH
X-WR-CALNAME:Schützengilde Reutlingen 1290 e.V.
X-ORIGINAL-URL:https://sgi-reutlingen.de
X-WR-CALDESC:Veranstaltungen für Schützengilde Reutlingen 1290 e.V.
REFRESH-INTERVAL;VALUE=DURATION:PT1H
X-Robots-Tag:noindex
X-PUBLISHED-TTL:PT1H
BEGIN:VTIMEZONE
TZID:UTC
BEGIN:STANDARD
TZOFFSETFROM:+0000
TZOFFSETTO:+0000
TZNAME:UTC
DTSTART:20240101T000000
END:STANDARD
END:VTIMEZONE
BEGIN:VEVENT
DTSTART;TZID=UTC:20251206T183000
DTEND;TZID=UTC:20251206T183000
DTSTAMP:20260422T151016
CREATED:20250225T121725Z
LAST-MODIFIED:20250225T121732Z
UID:10166-1765045800-1765045800@sgi-reutlingen.de
SUMMARY:Weihnachtsessen
DESCRIPTION:
URL:https://sgi-reutlingen.de/event/weihnachtsessen-3
LOCATION:Schützenhaus\, Mark 2\, Reutlingen\, 72764\, Deutschland
END:VEVENT
BEGIN:VEVENT
DTSTART;TZID=UTC:20251226T110000
DTEND;TZID=UTC:20251226T140000
DTSTAMP:20260422T151016
CREATED:20250225T121813Z
LAST-MODIFIED:20250225T121813Z
UID:10168-1766746800-1766757600@sgi-reutlingen.de
SUMMARY:Weihnachtsstammtisch
DESCRIPTION:
URL:https://sgi-reutlingen.de/event/weihnachtsstammtisch
LOCATION:Schützenhaus\, Mark 2\, Reutlingen\, 72764\, Deutschland
END:VEVENT
END:VCALENDAR