BEGIN:VCALENDAR
VERSION:2.0
PRODID:-//Schützengilde Reutlingen 1290 e.V. - ECPv6.15.20//NONSGML v1.0//EN
CALSCALE:GREGORIAN
METHOD:PUBLISH
X-ORIGINAL-URL:https://sgi-reutlingen.de
X-WR-CALDESC:Veranstaltungen für Schützengilde Reutlingen 1290 e.V.
REFRESH-INTERVAL;VALUE=DURATION:PT1H
X-Robots-Tag:noindex
X-PUBLISHED-TTL:PT1H
BEGIN:VTIMEZONE
TZID:UTC
BEGIN:STANDARD
TZOFFSETFROM:+0000
TZOFFSETTO:+0000
TZNAME:UTC
DTSTART:20240101T000000
END:STANDARD
END:VTIMEZONE
BEGIN:VEVENT
DTSTART;TZID=UTC:20251018T100000
DTEND;TZID=UTC:20251018T170000
DTSTAMP:20260422T174745
CREATED:20250225T121649Z
LAST-MODIFIED:20250826T151712Z
UID:10164-1760781600-1760806800@sgi-reutlingen.de
SUMMARY:Herbstschiessen
DESCRIPTION:
URL:https://sgi-reutlingen.de/event/herbstschiessen-3
LOCATION:Schützenhaus\, Mark 2\, Reutlingen\, 72764\, Deutschland
END:VEVENT
END:VCALENDAR