BEGIN:VCALENDAR
VERSION:2.0
PRODID:-//Schützengilde Reutlingen 1290 e.V. - ECPv6.15.20//NONSGML v1.0//EN
CALSCALE:GREGORIAN
METHOD:PUBLISH
X-ORIGINAL-URL:https://sgi-reutlingen.de
X-WR-CALDESC:Veranstaltungen für Schützengilde Reutlingen 1290 e.V.
REFRESH-INTERVAL;VALUE=DURATION:PT1H
X-Robots-Tag:noindex
X-PUBLISHED-TTL:PT1H
BEGIN:VTIMEZONE
TZID:UTC
BEGIN:STANDARD
TZOFFSETFROM:+0000
TZOFFSETTO:+0000
TZNAME:UTC
DTSTART:20250101T000000
END:STANDARD
END:VTIMEZONE
BEGIN:VEVENT
DTSTART;TZID=UTC:20260104T100000
DTEND;TZID=UTC:20260104T113000
DTSTAMP:20260422T150441
CREATED:20250225T121901Z
LAST-MODIFIED:20251229T081158Z
UID:10170-1767520800-1767526200@sgi-reutlingen.de
SUMMARY:Neujahrsschiessen
DESCRIPTION:
URL:https://sgi-reutlingen.de/event/neujahrsschiessen-2
END:VEVENT
END:VCALENDAR